BEGIN:VCALENDAR
VERSION:2.0
PRODID:-//Akkordeonorchester - ECPv6.15.12.2//NONSGML v1.0//EN
CALSCALE:GREGORIAN
METHOD:PUBLISH
X-ORIGINAL-URL:https://www.akkordeon-leverkusen.de
X-WR-CALDESC:Veranstaltungen für Akkordeonorchester
REFRESH-INTERVAL;VALUE=DURATION:PT1H
X-Robots-Tag:noindex
X-PUBLISHED-TTL:PT1H
BEGIN:VTIMEZONE
TZID:Europe/Berlin
BEGIN:DAYLIGHT
TZOFFSETFROM:+0100
TZOFFSETTO:+0200
TZNAME:CEST
DTSTART:20160327T010000
END:DAYLIGHT
BEGIN:STANDARD
TZOFFSETFROM:+0200
TZOFFSETTO:+0100
TZNAME:CET
DTSTART:20161030T010000
END:STANDARD
BEGIN:DAYLIGHT
TZOFFSETFROM:+0100
TZOFFSETTO:+0200
TZNAME:CEST
DTSTART:20170326T010000
END:DAYLIGHT
BEGIN:STANDARD
TZOFFSETFROM:+0200
TZOFFSETTO:+0100
TZNAME:CET
DTSTART:20171029T010000
END:STANDARD
BEGIN:DAYLIGHT
TZOFFSETFROM:+0100
TZOFFSETTO:+0200
TZNAME:CEST
DTSTART:20180325T010000
END:DAYLIGHT
BEGIN:STANDARD
TZOFFSETFROM:+0200
TZOFFSETTO:+0100
TZNAME:CET
DTSTART:20181028T010000
END:STANDARD
END:VTIMEZONE
BEGIN:VEVENT
DTSTART;TZID=Europe/Berlin:20171126T180000
DTEND;TZID=Europe/Berlin:20171126T200000
DTSTAMP:20260420T082843
CREATED:20200825T152127Z
LAST-MODIFIED:20200825T152153Z
UID:664-1511719200-1511726400@www.akkordeon-leverkusen.de
SUMMARY:45. Jahreskonzert
DESCRIPTION:Unser diesjähriges Jahreskonzert steht ganz im Zeichen französischer Komponisten und Melodien.\nEs ist das erste Jahreskonzert unter unserer neuen musikalischen Leiterin Simone Droick. \nDer Eintritt ist frei\, Spenden sind aber herzlich willkommen.
URL:https://www.akkordeon-leverkusen.de/termin/45-jahreskonzert/
LOCATION:Agam-Saal im Forum Leverkusen\, Am Büchelter Hof 9\, Leverkusen\, 51373
ATTACH;FMTTYPE=image/jpeg:https://www.akkordeon-leverkusen.de/wp-content/uploads/2019/07/Jahreskonzert_2017-e1598368901827.jpg
ORGANIZER;CN="Akkordeonorchester der Musikschule der Stadt Leverkusen":MAILTO:info@akkordeon-leverkusen.de
END:VEVENT
END:VCALENDAR